BEGIN:VCALENDAR
VERSION:2.0
PRODID:-//Jersey Music Service - ECPv6.15.20//NONSGML v1.0//EN
CALSCALE:GREGORIAN
METHOD:PUBLISH
X-WR-CALNAME:Jersey Music Service
X-ORIGINAL-URL:https://www.jms.je
X-WR-CALDESC:Events for Jersey Music Service
REFRESH-INTERVAL;VALUE=DURATION:PT1H
X-Robots-Tag:noindex
X-PUBLISHED-TTL:PT1H
BEGIN:VTIMEZONE
TZID:Europe/Jersey
BEGIN:DAYLIGHT
TZOFFSETFROM:+0000
TZOFFSETTO:+0100
TZNAME:BST
DTSTART:20250330T010000
END:DAYLIGHT
BEGIN:STANDARD
TZOFFSETFROM:+0100
TZOFFSETTO:+0000
TZNAME:GMT
DTSTART:20251026T010000
END:STANDARD
BEGIN:DAYLIGHT
TZOFFSETFROM:+0000
TZOFFSETTO:+0100
TZNAME:BST
DTSTART:20260329T010000
END:DAYLIGHT
BEGIN:STANDARD
TZOFFSETFROM:+0100
TZOFFSETTO:+0000
TZNAME:GMT
DTSTART:20261025T010000
END:STANDARD
BEGIN:DAYLIGHT
TZOFFSETFROM:+0000
TZOFFSETTO:+0100
TZNAME:BST
DTSTART:20270328T010000
END:DAYLIGHT
BEGIN:STANDARD
TZOFFSETFROM:+0100
TZOFFSETTO:+0000
TZNAME:GMT
DTSTART:20271031T010000
END:STANDARD
END:VTIMEZONE
BEGIN:VEVENT
DTSTART;TZID=Europe/Jersey:20260207T090000
DTEND;TZID=Europe/Jersey:20260208T180000
DTSTAMP:20260420T181752
CREATED:20260106T140951Z
LAST-MODIFIED:20260206T125627Z
UID:4054-1770454800-1770573600@www.jms.je
SUMMARY:PwC Jersey Junior Musician of the Year Competition and PwC Jersey Young Musician of the Year Heats
DESCRIPTION:The PwC Jersey Musician of the Year Competitions are part of Jersey Music Service’s provision of opportunities for young musicians in Jersey and provide performance and competition opportunities. The competition welcomes applications from string\, woodwind\, piano\, brass\, vocal and percussion musicians.
URL:https://www.jms.je/event/pwc-jersey-junior-musician-of-the-year-competition-and-pwc-jersey-young-musician-of-the-year-heats/
LOCATION:Jersey Music Service\, PO Box 142\, Highlands Campus\, St Saviour\, Jersey\, JE4 8QJ
END:VEVENT
BEGIN:VEVENT
DTSTART;TZID=Europe/Jersey:20260228T190000
DTEND;TZID=Europe/Jersey:20260228T220000
DTSTAMP:20260420T181752
CREATED:20260106T141240Z
LAST-MODIFIED:20260106T141240Z
UID:4055-1772305200-1772316000@www.jms.je
SUMMARY:PwC Jersey Young Musician of the Year Final
DESCRIPTION:The finest young musicians in Jersey compete for the title of PwC Jersey Young Musician of the Year. This coveted title will be awarded to the young performer who gives the most expressive and technically accomplished performance of their chosen repertoire. \nThe final of this fiercely fought annual competition\, organised by Jersey Music Service and sponsored by PwC\, celebrates its 34th year at Jersey Opera House. The evening will showcase the very best of Jersey’s young musicians in a programme that promises an extraordinarily high standard of performance. This will be a night that illustrates the wealth of musical talent that can be found in our community.
URL:https://www.jms.je/event/pwc-jersey-young-musician-of-the-year-final/
LOCATION:Jersey Opera House
END:VEVENT
END:VCALENDAR