BEGIN:VCALENDAR
VERSION:2.0
PRODID:-//Jersey Music Service - ECPv6.15.20//NONSGML v1.0//EN
CALSCALE:GREGORIAN
METHOD:PUBLISH
X-ORIGINAL-URL:https://www.jms.je
X-WR-CALDESC:Events for Jersey Music Service
REFRESH-INTERVAL;VALUE=DURATION:PT1H
X-Robots-Tag:noindex
X-PUBLISHED-TTL:PT1H
BEGIN:VTIMEZONE
TZID:Europe/Jersey
BEGIN:DAYLIGHT
TZOFFSETFROM:+0000
TZOFFSETTO:+0100
TZNAME:BST
DTSTART:20250330T010000
END:DAYLIGHT
BEGIN:STANDARD
TZOFFSETFROM:+0100
TZOFFSETTO:+0000
TZNAME:GMT
DTSTART:20251026T010000
END:STANDARD
BEGIN:DAYLIGHT
TZOFFSETFROM:+0000
TZOFFSETTO:+0100
TZNAME:BST
DTSTART:20260329T010000
END:DAYLIGHT
BEGIN:STANDARD
TZOFFSETFROM:+0100
TZOFFSETTO:+0000
TZNAME:GMT
DTSTART:20261025T010000
END:STANDARD
BEGIN:DAYLIGHT
TZOFFSETFROM:+0000
TZOFFSETTO:+0100
TZNAME:BST
DTSTART:20270328T010000
END:DAYLIGHT
BEGIN:STANDARD
TZOFFSETFROM:+0100
TZOFFSETTO:+0000
TZNAME:GMT
DTSTART:20271031T010000
END:STANDARD
END:VTIMEZONE
BEGIN:VEVENT
DTSTART;TZID=Europe/Jersey:20260517T130000
DTEND;TZID=Europe/Jersey:20260517T140000
DTSTAMP:20260422T180853
CREATED:20260401T155808Z
LAST-MODIFIED:20260401T155808Z
UID:4113-1779022800-1779026400@www.jms.je
SUMMARY:Brass & Wind Performance Platform
DESCRIPTION:
URL:https://www.jms.je/event/brass-wind-performance-platform/
LOCATION:Jersey Music Service\, PO Box 142\, Highlands Campus\, St Saviour\, Jersey\, JE4 8QJ
END:VEVENT
BEGIN:VEVENT
DTSTART;TZID=Europe/Jersey:20260517T150000
DTEND;TZID=Europe/Jersey:20260517T160000
DTSTAMP:20260422T180853
CREATED:20260401T155841Z
LAST-MODIFIED:20260401T155841Z
UID:4114-1779030000-1779033600@www.jms.je
SUMMARY:Piano Performance Platform
DESCRIPTION:
URL:https://www.jms.je/event/piano-performance-platform/
LOCATION:Jersey Music Service\, PO Box 142\, Highlands Campus\, St Saviour\, Jersey\, JE4 8QJ
END:VEVENT
END:VCALENDAR